BEGIN:VCALENDAR
VERSION:2.0
PRODID:-//Wenshaw Park Civic Association - ECPv6.15.20//NONSGML v1.0//EN
CALSCALE:GREGORIAN
METHOD:PUBLISH
X-ORIGINAL-URL:https://wenshawparkcivicassociation.com
X-WR-CALDESC:Events for Wenshaw Park Civic Association
REFRESH-INTERVAL;VALUE=DURATION:PT1H
X-Robots-Tag:noindex
X-PUBLISHED-TTL:PT1H
BEGIN:VTIMEZONE
TZID:UTC
BEGIN:STANDARD
TZOFFSETFROM:+0000
TZOFFSETTO:+0000
TZNAME:UTC
DTSTART:20230101T000000
END:STANDARD
END:VTIMEZONE
BEGIN:VEVENT
DTSTART;VALUE=DATE:20241231
DTEND;VALUE=DATE:20280201
DTSTAMP:20260423T215047
CREATED:20240101T174748Z
LAST-MODIFIED:20260209T184304Z
UID:9928-1735603200-1832975999@wenshawparkcivicassociation.com
SUMMARY:2026 Annual Dues
DESCRIPTION:Please pay your 2026 dues! \nPAY HERE!
URL:https://wenshawparkcivicassociation.com/event/2026-annual-dues-deadline-2/
END:VEVENT
BEGIN:VEVENT
DTSTART;TZID=UTC:20260425T190000
DTEND;TZID=UTC:20260425T230000
DTSTAMP:20260423T215047
CREATED:20250112T141136Z
LAST-MODIFIED:20260320T220956Z
UID:11596-1777143600-1777158000@wenshawparkcivicassociation.com
SUMMARY:Community Spring Fling
DESCRIPTION:RSVP and purchase your ticket below. Please print or screen photo your receipt for entry. \nThe evening will consist of an open bar\, and a delicious buffet dinner. Most of all\, we will have Community fun and friendship! We will also hold a 50/50 raffle. \n\n\nPlease note that this event is a FIRST COME\, FIRST SERVE event and tickets are limited. Please direct any questions to wenshawparkcivicassociation@gmail.com or call/text Roe 516-578-9068 \n*Please remember if you have not purchased your membership yet this year please do so now. \n**All guests of Wenshaw Park members are welcome. Please make note of the member on your ticket request.  \n\n\n\n\n\n\n  \n.
URL:https://wenshawparkcivicassociation.com/event/community-spring-fling/
LOCATION:Newbridge Inn\, 227 Jerusalem Ave\, Merrick\, 11566\, United States
END:VEVENT
END:VCALENDAR